BEGIN:VCALENDAR
VERSION:2.0
PRODID:-//Tuckahoe Presbyterian Church - ECPv6.15.20//NONSGML v1.0//EN
CALSCALE:GREGORIAN
METHOD:PUBLISH
X-WR-CALNAME:Tuckahoe Presbyterian Church
X-ORIGINAL-URL:https://tuckahoepres.org
X-WR-CALDESC:Events for Tuckahoe Presbyterian Church
REFRESH-INTERVAL;VALUE=DURATION:PT1H
X-Robots-Tag:noindex
X-PUBLISHED-TTL:PT1H
BEGIN:VTIMEZONE
TZID:UTC
BEGIN:STANDARD
TZOFFSETFROM:+0000
TZOFFSETTO:+0000
TZNAME:UTC
DTSTART:20260101T000000
END:STANDARD
END:VTIMEZONE
BEGIN:VEVENT
DTSTART;TZID=UTC:20270202T093000
DTEND;TZID=UTC:20270202T103000
DTSTAMP:20260419T132952
CREATED:20260218T013650Z
LAST-MODIFIED:20260325T153023Z
UID:10000636-1801560600-1801564200@tuckahoepres.org
SUMMARY:Prayer Group
DESCRIPTION:In an effort to help facilitate praying WITH one another\, we will be offering a time for collective prayer here at Tuckahoe \n\nTuesday 9:30 a.m. morning prayer group in our Commons\n\nIf you have a prayer request to be brought for prayer\, please email the church office or the pastor directly. \nJohn Calvin wrote that “Prayer is the chief exercise of faith\,” and I believe it. Ultimately prayer FOR and WITH each other is more about building our relationships with God and each other and less about the results that come from praying. However\, it is also true that “the prayer of the righteous is powerful and effective” (James 5:16b). It truly is
URL:https://tuckahoepres.org/event/prayer-group/2027-02-02/
CATEGORIES:Prayer Group
ATTACH;FMTTYPE=image/png:https://tuckahoepres.org/wp-content/uploads/2026/02/Prayer-E-News-Graphic.png
END:VEVENT
BEGIN:VEVENT
DTSTART;TZID=UTC:20270207T103000
DTEND;TZID=UTC:20270207T113000
DTSTAMP:20260419T132952
CREATED:20260225T221611Z
LAST-MODIFIED:20260415T204236Z
UID:10002092-1801996200-1801999800@tuckahoepres.org
SUMMARY:Worship & Bulletin
DESCRIPTION:Sunday Worship and Livestream\nOur Sunday Morning Worship is at 10:30am in the Sanctuary. \nClick here for access to our Sunday Morning Livestream. \nClick here for the bulletin to our upcoming Sunday service. \nFor more details about what to expect\, visit our “Plan a Visit” page on the website. \nOccasionally\, we have other services. For updates\, sign up for our weekly e-newsletter (link to sign up on the website). \nFor many\, the phrase “going to church” is synonymous with the act of attending a worship service. Being the church\, however\, means much more than assembling weekly in the sanctuary for the purpose of singing songs\, praying\, and hearing a sermon. Worship is at the heart of what we do when we come together as God’s people\, but worship\, moreover\, tells us who we are and equips us with the encouragement we need to live the other days of the week in response to the call of Jesus. \nOur prayer for people who attend worship at Tuckahoe is that they will experience the presence of God\, but also that they will leave knowing that they are welcome here just as they are. \nFor members\, click here to sign up as a liturgist.
URL:https://tuckahoepres.org/event/worship-and-bulletin/2027-02-07/
CATEGORIES:Worship Live Stream
ATTACH;FMTTYPE=image/png:https://tuckahoepres.org/wp-content/uploads/2026/02/Worship-and-Bulletin-e1774983364301.png
END:VEVENT
BEGIN:VEVENT
DTSTART;TZID=UTC:20270209T093000
DTEND;TZID=UTC:20270209T103000
DTSTAMP:20260419T132952
CREATED:20260218T013650Z
LAST-MODIFIED:20260325T153023Z
UID:10000637-1802165400-1802169000@tuckahoepres.org
SUMMARY:Prayer Group
DESCRIPTION:In an effort to help facilitate praying WITH one another\, we will be offering a time for collective prayer here at Tuckahoe \n\nTuesday 9:30 a.m. morning prayer group in our Commons\n\nIf you have a prayer request to be brought for prayer\, please email the church office or the pastor directly. \nJohn Calvin wrote that “Prayer is the chief exercise of faith\,” and I believe it. Ultimately prayer FOR and WITH each other is more about building our relationships with God and each other and less about the results that come from praying. However\, it is also true that “the prayer of the righteous is powerful and effective” (James 5:16b). It truly is
URL:https://tuckahoepres.org/event/prayer-group/2027-02-09/
CATEGORIES:Prayer Group
ATTACH;FMTTYPE=image/png:https://tuckahoepres.org/wp-content/uploads/2026/02/Prayer-E-News-Graphic.png
END:VEVENT
BEGIN:VEVENT
DTSTART;TZID=UTC:20270214T103000
DTEND;TZID=UTC:20270214T113000
DTSTAMP:20260419T132952
CREATED:20260225T221611Z
LAST-MODIFIED:20260415T204236Z
UID:10002093-1802601000-1802604600@tuckahoepres.org
SUMMARY:Worship & Bulletin
DESCRIPTION:Sunday Worship and Livestream\nOur Sunday Morning Worship is at 10:30am in the Sanctuary. \nClick here for access to our Sunday Morning Livestream. \nClick here for the bulletin to our upcoming Sunday service. \nFor more details about what to expect\, visit our “Plan a Visit” page on the website. \nOccasionally\, we have other services. For updates\, sign up for our weekly e-newsletter (link to sign up on the website). \nFor many\, the phrase “going to church” is synonymous with the act of attending a worship service. Being the church\, however\, means much more than assembling weekly in the sanctuary for the purpose of singing songs\, praying\, and hearing a sermon. Worship is at the heart of what we do when we come together as God’s people\, but worship\, moreover\, tells us who we are and equips us with the encouragement we need to live the other days of the week in response to the call of Jesus. \nOur prayer for people who attend worship at Tuckahoe is that they will experience the presence of God\, but also that they will leave knowing that they are welcome here just as they are. \nFor members\, click here to sign up as a liturgist.
URL:https://tuckahoepres.org/event/worship-and-bulletin/2027-02-14/
CATEGORIES:Worship Live Stream
ATTACH;FMTTYPE=image/png:https://tuckahoepres.org/wp-content/uploads/2026/02/Worship-and-Bulletin-e1774983364301.png
END:VEVENT
BEGIN:VEVENT
DTSTART;TZID=UTC:20270216T093000
DTEND;TZID=UTC:20270216T103000
DTSTAMP:20260419T132952
CREATED:20260218T013650Z
LAST-MODIFIED:20260325T153023Z
UID:10000638-1802770200-1802773800@tuckahoepres.org
SUMMARY:Prayer Group
DESCRIPTION:In an effort to help facilitate praying WITH one another\, we will be offering a time for collective prayer here at Tuckahoe \n\nTuesday 9:30 a.m. morning prayer group in our Commons\n\nIf you have a prayer request to be brought for prayer\, please email the church office or the pastor directly. \nJohn Calvin wrote that “Prayer is the chief exercise of faith\,” and I believe it. Ultimately prayer FOR and WITH each other is more about building our relationships with God and each other and less about the results that come from praying. However\, it is also true that “the prayer of the righteous is powerful and effective” (James 5:16b). It truly is
URL:https://tuckahoepres.org/event/prayer-group/2027-02-16/
CATEGORIES:Prayer Group
ATTACH;FMTTYPE=image/png:https://tuckahoepres.org/wp-content/uploads/2026/02/Prayer-E-News-Graphic.png
END:VEVENT
BEGIN:VEVENT
DTSTART;TZID=UTC:20270221T103000
DTEND;TZID=UTC:20270221T113000
DTSTAMP:20260419T132952
CREATED:20260225T221611Z
LAST-MODIFIED:20260415T204236Z
UID:10002094-1803205800-1803209400@tuckahoepres.org
SUMMARY:Worship & Bulletin
DESCRIPTION:Sunday Worship and Livestream\nOur Sunday Morning Worship is at 10:30am in the Sanctuary. \nClick here for access to our Sunday Morning Livestream. \nClick here for the bulletin to our upcoming Sunday service. \nFor more details about what to expect\, visit our “Plan a Visit” page on the website. \nOccasionally\, we have other services. For updates\, sign up for our weekly e-newsletter (link to sign up on the website). \nFor many\, the phrase “going to church” is synonymous with the act of attending a worship service. Being the church\, however\, means much more than assembling weekly in the sanctuary for the purpose of singing songs\, praying\, and hearing a sermon. Worship is at the heart of what we do when we come together as God’s people\, but worship\, moreover\, tells us who we are and equips us with the encouragement we need to live the other days of the week in response to the call of Jesus. \nOur prayer for people who attend worship at Tuckahoe is that they will experience the presence of God\, but also that they will leave knowing that they are welcome here just as they are. \nFor members\, click here to sign up as a liturgist.
URL:https://tuckahoepres.org/event/worship-and-bulletin/2027-02-21/
CATEGORIES:Worship Live Stream
ATTACH;FMTTYPE=image/png:https://tuckahoepres.org/wp-content/uploads/2026/02/Worship-and-Bulletin-e1774983364301.png
END:VEVENT
BEGIN:VEVENT
DTSTART;TZID=UTC:20270223T093000
DTEND;TZID=UTC:20270223T103000
DTSTAMP:20260419T132952
CREATED:20260218T013650Z
LAST-MODIFIED:20260325T153023Z
UID:10000639-1803375000-1803378600@tuckahoepres.org
SUMMARY:Prayer Group
DESCRIPTION:In an effort to help facilitate praying WITH one another\, we will be offering a time for collective prayer here at Tuckahoe \n\nTuesday 9:30 a.m. morning prayer group in our Commons\n\nIf you have a prayer request to be brought for prayer\, please email the church office or the pastor directly. \nJohn Calvin wrote that “Prayer is the chief exercise of faith\,” and I believe it. Ultimately prayer FOR and WITH each other is more about building our relationships with God and each other and less about the results that come from praying. However\, it is also true that “the prayer of the righteous is powerful and effective” (James 5:16b). It truly is
URL:https://tuckahoepres.org/event/prayer-group/2027-02-23/
CATEGORIES:Prayer Group
ATTACH;FMTTYPE=image/png:https://tuckahoepres.org/wp-content/uploads/2026/02/Prayer-E-News-Graphic.png
END:VEVENT
BEGIN:VEVENT
DTSTART;TZID=UTC:20270228T103000
DTEND;TZID=UTC:20270228T113000
DTSTAMP:20260419T132952
CREATED:20260225T221611Z
LAST-MODIFIED:20260415T204236Z
UID:10002095-1803810600-1803814200@tuckahoepres.org
SUMMARY:Worship & Bulletin
DESCRIPTION:Sunday Worship and Livestream\nOur Sunday Morning Worship is at 10:30am in the Sanctuary. \nClick here for access to our Sunday Morning Livestream. \nClick here for the bulletin to our upcoming Sunday service. \nFor more details about what to expect\, visit our “Plan a Visit” page on the website. \nOccasionally\, we have other services. For updates\, sign up for our weekly e-newsletter (link to sign up on the website). \nFor many\, the phrase “going to church” is synonymous with the act of attending a worship service. Being the church\, however\, means much more than assembling weekly in the sanctuary for the purpose of singing songs\, praying\, and hearing a sermon. Worship is at the heart of what we do when we come together as God’s people\, but worship\, moreover\, tells us who we are and equips us with the encouragement we need to live the other days of the week in response to the call of Jesus. \nOur prayer for people who attend worship at Tuckahoe is that they will experience the presence of God\, but also that they will leave knowing that they are welcome here just as they are. \nFor members\, click here to sign up as a liturgist.
URL:https://tuckahoepres.org/event/worship-and-bulletin/2027-02-28/
CATEGORIES:Worship Live Stream
ATTACH;FMTTYPE=image/png:https://tuckahoepres.org/wp-content/uploads/2026/02/Worship-and-Bulletin-e1774983364301.png
END:VEVENT
END:VCALENDAR